BEGIN:VCALENDAR
VERSION:2.0
PRODID:-//DIAG WISS - ECPv6.15.17//NONSGML v1.0//EN
CALSCALE:GREGORIAN
METHOD:PUBLISH
X-ORIGINAL-URL:https://diagwiss.de
X-WR-CALDESC:Veranstaltungen für DIAG WISS
REFRESH-INTERVAL;VALUE=DURATION:PT1H
X-Robots-Tag:noindex
X-PUBLISHED-TTL:PT1H
BEGIN:VTIMEZONE
TZID:Europe/Berlin
BEGIN:DAYLIGHT
TZOFFSETFROM:+0100
TZOFFSETTO:+0200
TZNAME:CEST
DTSTART:20240331T010000
END:DAYLIGHT
BEGIN:STANDARD
TZOFFSETFROM:+0200
TZOFFSETTO:+0100
TZNAME:CET
DTSTART:20241027T010000
END:STANDARD
BEGIN:DAYLIGHT
TZOFFSETFROM:+0100
TZOFFSETTO:+0200
TZNAME:CEST
DTSTART:20250330T010000
END:DAYLIGHT
BEGIN:STANDARD
TZOFFSETFROM:+0200
TZOFFSETTO:+0100
TZNAME:CET
DTSTART:20251026T010000
END:STANDARD
BEGIN:DAYLIGHT
TZOFFSETFROM:+0100
TZOFFSETTO:+0200
TZNAME:CEST
DTSTART:20260329T010000
END:DAYLIGHT
BEGIN:STANDARD
TZOFFSETFROM:+0200
TZOFFSETTO:+0100
TZNAME:CET
DTSTART:20261025T010000
END:STANDARD
END:VTIMEZONE
BEGIN:VEVENT
DTSTART;TZID=Europe/Berlin:20251121T120000
DTEND;TZID=Europe/Berlin:20251123T150000
DTSTAMP:20260424T011503
CREATED:20250730T173156Z
LAST-MODIFIED:20251020T132146Z
UID:10000033-1763726400-1763910000@diagwiss.de
SUMMARY:Intensivseminar | Berlin | 21.11. bis 23.11.25
DESCRIPTION:Inhalte:\nGrundlagen der Mikrobiologie\nUrinmikrobiologie-Diagnostik in Theorie & Praxis\nOrientierende & weitergehende Identifizierung\nAntibiogramme nach EUCAST\nQualitätssicherung im Labor nach Rili-BÄK \n• Interne & Externe Qualitätskontrollen\n• Informationen zu Kontrollstämmen & Ringversuchen\n• Abrechnung\n• OIII-Kolloquium \nZeiten:\n Fr. 12:00-18:00\nSa. 9:00-17:00\nSo. 9:00-15:00 Uhr \nKosten:\n650\,00 € (exkl. 19 % MwSt.) pro Person (incl. Arbeitsmaterialien) \n10 Prozent Rabatt für alle URMI Plus Mitglieder
URL:https://diagwiss.de/seminar/intensivseminar-berlin-21-11-bis-23-11-25
LOCATION:Berlin | DIAG WISS\, Weisestraße 27-II\, Berlin\, 12049\, Germany
CATEGORIES:Intensivseminar
ATTACH;FMTTYPE=image/jpeg:https://diagwiss.de/wp-content/uploads/2025/04/DIAG-WISS-Intensivseminar-Berlin-16-9.jpg
ORGANIZER;CN="DIAG WISS":MAILTO:info@diagwiss.de
END:VEVENT
BEGIN:VEVENT
DTSTART;TZID=Europe/Berlin:20251121T130000
DTEND;TZID=Europe/Berlin:20251121T150000
DTSTAMP:20260424T011503
CREATED:20250604T175926Z
LAST-MODIFIED:20250804T141600Z
UID:10000017-1763730000-1763737200@diagwiss.de
SUMMARY:Kompaktseminar | Automaten | 21.11.25 | Online
DESCRIPTION:Inhalte:\nDas Seminar richtet sich gezielt an die Nutzer*innen von Automatisierten Systemen in der Mikrobiologie (Micronaut\, Vitek etc.)\, und solche die es vielleicht werden wollen. Im Kurs werden verschiedene Fragen zur Nutzung der Systeme behandelt: \n\nWas ist bei der Arbeit mit Automaten zu beachten?\nWelche Besonderheiten gibt es bei der Nutzung der Systeme?\nWelche Fehlerquellen gibt es und wie kann ich sie vermeiden?\nWas muss ich bei der Abrechnung nach EBM und GOÄ bei Automatisierten Systemen beachten?\nWas ist bei der Durchführung der Ringversuche zu berücksichtigen?\nWie ist der Befund zu bewerten?\n\nDauer:\n2 Stunden \nKosten:\n150 € pro Person (exkl. 19 % MwSt.)
URL:https://diagwiss.de/seminar/kompaktseminar-automaten-21-11-25-online
LOCATION:https://diagwiss.de/seminar/kompaktseminar-automaten-21-11-25-online
CATEGORIES:Kompakt-Seminar,Online
ATTACH;FMTTYPE=image/jpeg:https://diagwiss.de/wp-content/uploads/2025/06/DIAG-WISS-Kompaktseminar-Automaten.jpg
ORGANIZER;CN="DIAG WISS":MAILTO:info@diagwiss.de
END:VEVENT
BEGIN:VEVENT
DTSTART;TZID=Europe/Berlin:20251121T130000
DTEND;TZID=Europe/Berlin:20251121T150000
DTSTAMP:20260424T011503
CREATED:20250605T084452Z
LAST-MODIFIED:20250804T141745Z
UID:10000025-1763730000-1763737200@diagwiss.de
SUMMARY:Kompaktseminar | Qualitätssicherung | 21.11.25 | Online
DESCRIPTION:Inhalte:\nInterne und Externe Qualitätssicherung. Hilfestellung bei der Umsetzung und Durchführung der Qualitätssicherung nach den Vorgaben der Rili-BÄK: Was steht in der Rili-BÄK? Wie führe ich die interne Qualitätssicherung in meinem Labor durch? Was ist eine externe Qualitätssicherung? Wie oft und an welchen Ringversuchen muss ich teilnehmen? \nDauer:\n2 Stunden \nKosten:\n150 € pro Person (exkl. 19 % MwSt.)
URL:https://diagwiss.de/seminar/kompaktseminar-qualitaetssicherung-21-11-25-online
LOCATION:https://diagwiss.de/seminar/kompaktseminar-qualitaetssicherung-21-11-25-online
CATEGORIES:Kompakt-Seminar,Online,Qualitätsmanagement
ATTACH;FMTTYPE=image/jpeg:https://diagwiss.de/wp-content/uploads/2025/06/DIAG-WISS-Kompaktseminar-Qualitaetssicherung.jpg
ORGANIZER;CN="DIAG WISS":MAILTO:info@diagwiss.de
END:VEVENT
END:VCALENDAR