BEGIN:VCALENDAR
VERSION:2.0
PRODID:-//DIAG WISS - ECPv6.15.17//NONSGML v1.0//EN
CALSCALE:GREGORIAN
METHOD:PUBLISH
X-WR-CALNAME:DIAG WISS
X-ORIGINAL-URL:https://diagwiss.de
X-WR-CALDESC:Veranstaltungen für DIAG WISS
REFRESH-INTERVAL;VALUE=DURATION:PT1H
X-Robots-Tag:noindex
X-PUBLISHED-TTL:PT1H
BEGIN:VTIMEZONE
TZID:Europe/Berlin
BEGIN:DAYLIGHT
TZOFFSETFROM:+0100
TZOFFSETTO:+0200
TZNAME:CEST
DTSTART:20250330T010000
END:DAYLIGHT
BEGIN:STANDARD
TZOFFSETFROM:+0200
TZOFFSETTO:+0100
TZNAME:CET
DTSTART:20251026T010000
END:STANDARD
BEGIN:DAYLIGHT
TZOFFSETFROM:+0100
TZOFFSETTO:+0200
TZNAME:CEST
DTSTART:20260329T010000
END:DAYLIGHT
BEGIN:STANDARD
TZOFFSETFROM:+0200
TZOFFSETTO:+0100
TZNAME:CET
DTSTART:20261025T010000
END:STANDARD
BEGIN:DAYLIGHT
TZOFFSETFROM:+0100
TZOFFSETTO:+0200
TZNAME:CEST
DTSTART:20270328T010000
END:DAYLIGHT
BEGIN:STANDARD
TZOFFSETFROM:+0200
TZOFFSETTO:+0100
TZNAME:CET
DTSTART:20271031T010000
END:STANDARD
END:VTIMEZONE
BEGIN:VEVENT
DTSTART;TZID=Europe/Berlin:20260624T130000
DTEND;TZID=Europe/Berlin:20260624T140000
DTSTAMP:20260420T160011
CREATED:20251019T111826Z
LAST-MODIFIED:20251019T111942Z
UID:10000101-1782306000-1782309600@diagwiss.de
SUMMARY:Sprechstunde | URMI | 24.06.26 | Online
DESCRIPTION:Thema:\nAntibiotika-Auswahl im Labor \nInhalte:\nDie Virtuelle Sprechstunde findet einmal im Quartal zu einem bestimmten Thema statt und ist für URMIs kostenlos. Wer noch nicht Teil des Serviceverbands Urinmikrobiologie ist\, kann natürlich gegen einen kleinen Betrag teilnehmen. \nDauer:\n1 Stunde \nKosten:\n50 € pro Person  (exkl. 19 % MwSt.) \nkostenfrei für URMI Mitglieder
URL:https://diagwiss.de/seminar/sprechstunde-urmi-24-06-26-online
LOCATION:https://diagwiss.de/seminar/sprechstunde-urmi-24-06-26-online
CATEGORIES:enthalten in URMI Basis,enthalten in URMI PLUS Arbeitsschutz,enthalten in URMI PLUS Datenschutz,enthalten in URMI PLUS Hygiene,enthalten in URMI PLUS Labor,enthalten in URMI PLUS Praxis,enthalten in URMI PLUS Qualitätsmanagement,Online,Sprechstunde,URMI-Basis,URMI-Plus
ATTACH;FMTTYPE=image/jpeg:https://diagwiss.de/wp-content/uploads/2025/06/DIAG-WISS-URMI-Sprechstunde.jpg
ORGANIZER;CN="DIAG WISS":MAILTO:info@diagwiss.de
END:VEVENT
BEGIN:VEVENT
DTSTART;TZID=Europe/Berlin:20260624T140000
DTEND;TZID=Europe/Berlin:20260624T150000
DTSTAMP:20260420T160011
CREATED:20251019T113226Z
LAST-MODIFIED:20251019T113226Z
UID:10000104-1782309600-1782313200@diagwiss.de
SUMMARY:Sprechstunde | URMI QM | 24.06.26 | Online
DESCRIPTION:Inhalte:\nURMI-Sprechstunde zum Qualitätsmanagement. Für die URMI-Plus-QM-Mitglieder bieten wir jedes Quartal einen Termin zur Bearbeitung\, Aktualisierung und Besprechung des eigenen Qualitätsmanagement-Ordners an. An jedem Termin werden bestimmte Kapitel des QM-Ordners besprochen und erläutert (siehe unten). Außerdem können offene Fragen zum aktuellen Abschnitt oder zu einem anderen Kapitel gestellt und erklärt werden. \nThema:\nKapitel 3 – Arbeitsorganisation \nKapitel 4 – Arbeitsschutz\, Hygiene und Notfallmanagement \nDauer:\n1 Stunde \nKosten:\n50 € pro Person (exkl. 19 % MwSt.) \nkostenfrei für URMI Plus QM-Mitglieder
URL:https://diagwiss.de/seminar/sprechstunde-urmi-qm-24-06-26-online
LOCATION:https://diagwiss.de/seminar/sprechstunde-urmi-qm-24-06-26-online
CATEGORIES:enthalten in URMI PLUS Qualitätsmanagement,Online,Qualitätsmanagement,Sprechstunde
ATTACH;FMTTYPE=image/jpeg:https://diagwiss.de/wp-content/uploads/2025/06/DIAG-WISS-URMI-Sprechstunde-QM.jpg
ORGANIZER;CN="DIAG WISS":MAILTO:info@diagwiss.de
END:VEVENT
BEGIN:VEVENT
DTSTART;TZID=Europe/Berlin:20260624T150000
DTEND;TZID=Europe/Berlin:20260624T170000
DTSTAMP:20260420T160011
CREATED:20251020T123629Z
LAST-MODIFIED:20251020T123629Z
UID:10000113-1782313200-1782320400@diagwiss.de
SUMMARY:Kompaktseminar | Laborgründung / -übernahme | 24.06.26 | Online
DESCRIPTION:Inhalte:\nDer Schritt in die Niederlassung bedeutet Veränderung\, Herausforderung und viel „Papierkram“. Für die urologische Praxis stellt sich auch die Frage\, ob mit oder ohne urinmikrobiologisches Labor. Im Seminar diskutieren wir die Frage „Was bringt die Mikrobiologie?“ und stellen mögliche Abrechnungsziffern vor. Es werden die nötigen Schritte zur Anzeige des Labors und der Antrag bei der KV zur Abrechnungsberechtigung besprochen. Außerdem werden verschiedene Möglichkeiten zur Durchführung der Urinmikrobiologie vorgestellt. \n  \nDauer:\n2 Stunden \nKosten:\n150 € pro Person (exkl. 19 % MwSt.)
URL:https://diagwiss.de/seminar/kompaktseminar-laborgruendung-uebernahme-24-06-26-online
LOCATION:https://diagwiss.de/seminar/kompaktseminar-laborgruendung-uebernahme-24-06-26-online
CATEGORIES:Kompakt-Seminar,Mikrobiologie,Online
ATTACH;FMTTYPE=image/jpeg:https://diagwiss.de/wp-content/uploads/2025/09/DIAG-WISS-Kompaktseminar-Laborgruendung-Laboruebernahme.jpg
ORGANIZER;CN="DIAG WISS":MAILTO:info@diagwiss.de
END:VEVENT
END:VCALENDAR